BEGIN:VCALENDAR
VERSION:2.0
PRODID:SchoolNow
CALSCALE:GREGORIAN
BEGIN:VEVENT
UID:374d2e80-dd8f-11ef-9c8d-0e956362e35d
DTSTAMP:20250128T154744Z
SUMMARY:(G) V Volleyball - Practice (7:30 PM)
LOCATION:PHS AUX Gym (Volleyball gym)
URL;VALUE=URI:https://www.uticaschools.org/departments/athletics/calendar/7
 388236/g-v-volleyball-practice-7-30-pm
DTSTART:20250128T003000Z
DTEND:20250128T020000Z
END:VEVENT
END:VCALENDAR
