BEGIN:VCALENDAR
VERSION:2.0
PRODID:SchoolNow
CALSCALE:GREGORIAN
BEGIN:VEVENT
UID:34a2799c-dd8f-11ef-9a75-0e956362e35d
DTSTAMP:20250128T154740Z
SUMMARY:(G) 7/8TH Volleyball (JFK) - Practice (2:25 PM)
LOCATION:JFK Gym
URL;VALUE=URI:https://www.uticaschools.org/departments/athletics/calendar/7
 387807/g-7-8th-volleyball-jfk-practice-2-25-pm
DTSTART:20250123T192500Z
DTEND:20250123T221500Z
END:VEVENT
END:VCALENDAR
