BEGIN:VCALENDAR
VERSION:2.0
PRODID:SchoolNow
CALSCALE:GREGORIAN
BEGIN:VEVENT
UID:309c48c8-dd8f-11ef-b860-0e956362e35d
DTSTAMP:20250128T154733Z
SUMMARY:Girls (DMS) 7th/8th Volleyball @ Vernon-Verona-Sherrill
LOCATION:VVS MS Gym
URL;VALUE=URI:https://www.uticaschools.org/departments/athletics/calendar/7
 386842/girls-dms-7th-8th-volleyball-vernon-verona-sherrill
DTSTART:20250106T213000Z
DTEND:20250106T223000Z
END:VEVENT
END:VCALENDAR
