BEGIN:VCALENDAR
VERSION:2.0
PRODID:SchoolNow
CALSCALE:GREGORIAN
BEGIN:VEVENT
UID:309c47ec-dd8f-11ef-b27e-0e956362e35d
DTSTAMP:20250128T154733Z
SUMMARY:(G) 7/8TH Volleyball (DMS) v. (G) 7/8TH Volleyball (JFK) @ Utica Pr
 octor
LOCATION:PHS Main Gym
URL;VALUE=URI:https://www.uticaschools.org/departments/athletics/calendar/7
 386841/g-7-8th-volleyball-dms-v-g-7-8th-volleyball-jfk-utica-proctor
DTSTART:20250130T203000Z
DTEND:20250130T213000Z
END:VEVENT
END:VCALENDAR
