BEGIN:VCALENDAR
VERSION:2.0
PRODID:SchoolNow
CALSCALE:GREGORIAN
BEGIN:VEVENT
UID:2ef2d9ce-dd8f-11ef-89ef-0e956362e35d
DTSTAMP:20250128T154730Z
SUMMARY:Girls Junior Varsity Volleyball v. Whitesboro
LOCATION:PHS Main Gym
URL;VALUE=URI:https://www.uticaschools.org/departments/athletics/calendar/7
 386497/girls-junior-varsity-volleyball-v-whitesboro
DTSTART:20250109T223000Z
DTEND:20250109T233000Z
END:VEVENT
END:VCALENDAR
