BEGIN:VCALENDAR
VERSION:2.0
PRODID:SchoolNow
CALSCALE:GREGORIAN
BEGIN:VEVENT
UID:2dc6b9a8-dd8f-11ef-810f-0e956362e35d
DTSTAMP:20250128T154728Z
SUMMARY:Boys Varsity Wrestling @ Central Valley Academy
LOCATION:CVA Main Gym
URL;VALUE=URI:https://www.uticaschools.org/departments/athletics/calendar/7
 386232/boys-varsity-wrestling-central-valley-academy
DTSTART:20250115T230000Z
DTEND:20250116T000000Z
END:VEVENT
END:VCALENDAR
